BEGIN:VCALENDAR
VERSION:2.0
PRODID:icalendar-ruby
CALSCALE:GREGORIAN
METHOD:PUBLISH
BEGIN:VEVENT
DTSTAMP:20260420T234739Z
UID:299-2123242@ritsonalliance.church
DTSTART:20260722T140000Z
DTEND:20260722T150000Z
CLASS:PUBLIC
CREATED:20260420T191603
DESCRIPTION:Ladies Bible Study - In Person\nPrayer - The Great Adventure by
  David Jeremiah \nPlace:  Please contact Lois for location (rlsavage8491
 @gmail.com)\nDate:  Wednesdays (New Day)\nTime:  10:00\nPlease talk to L
 ois if you have any further questions.
LAST-MODIFIED:20260420T191603
LOCATION:In Person - Contact Lois Savage for Address of Location
SUMMARY:Ladies Bible Study 
URL;VALUE=URI:https://www.ritsonalliance.church/events/ladies-bible-study--
 299/2026-07-22
ATTACH;FILENAME=Prayer---The-Great-Adventure.png;FMTTYPE=image/png:https://
 dq5pwpg1q8ru0.cloudfront.net/2025/09/10/13/30/36/65d9216e-08b1-4770-be5f-d
 7d37a4ccd8c/Prayer---The-Great-Adventure.png
END:VEVENT
END:VCALENDAR
